Workbook

Sheet Form1_入学願書
C1: ユニタス日本語学校：（甲府校・東京校）Unitas Japanese Language School (Kofu・Tokyo) | AM1: 書式Form-1
Q3: 入 学 願 書
P4: Application for Admission
B5: 申請者 Applicant
B6: 氏名 Full Name | H6: 漢字
H7: ローマ字 Latin Alphabet
B8: 国籍 Nationality | R8: 出生地 Place of Birth
B9: 生年月日 Date of Birth | K9: 年 | N9: 月 | Q9: 日 | R9: 性別 Gender | X9: □ | Z9: 男 Male | AD9: □ | AF9: 女 Female
J10: Year | M10: Month | P10: Day
B11: 現住所 Present Address
B12: 自宅電話 Home Phone# | P12: 携帯番号 Mobile# | AD12: E-mail
B13: 旅券番号 Passport No． | P13: 発行日 Date of Issue | X13: / | AA13: / | AD13: 有効期限 Date of Expiration | AL13: / | AO13: /
B14: 日本語の試験 Japanese Language Test | AA14: 級 | AB14: Grade | AF14: 点 | AG14: Score | AK14: 年 | AL14: Year | AP14: 月 | AQ14: Month
B16: 最終学歴 Education or present school | J16: □ | L16: 大学院（博士） Doctor | U16: □ | W16: 大学院（修士） Master | AG16: □ | AI16: 大学（学士） Bachelor
J17: □ | L17: 短期大学 Junior College | U17: □ | W17: 専門学校 Vocational College | AG17: □ | AI17: 高校 Senior High School
B18: 希望校 Location | J18: □ | L18: UNITAS KOFU / 学校法人 ユニタス日本語学校（ユニタス甲府）
J19: □ | L19: UNITAS TOKYO / ユニタス日本語学校 東京校（ユニタス東京）
B20: 期間 Period | J20: From | Q20: 年Year | V20: 月Month | Z20: ～ | AD20: To | AJ20: 年Year | AO20: 月Month
B21: 入学希望コース Course applied for
B23: 滞在先 Accommodations | J23: □ | L23: 学校紹介アパート Apartments introduced by the school | AC23: □ | AD23: 自分で探す Find accommodation by myself
J24: □ | L24: 親戚・知人宅 Friend's or Relative's House | AC24: □ | AD24: 未定 Not Decided
B25: 修了後の予定 Plans upon Completion of Study at Unitas | J25: □ | L25: 大学進学 Go to University | T25: □ | U25: 大学院進学 Go to Graduate School | AE25: □ | AG25: 専門学校進学 Go to Vocational College
J26: □ | L26: 日本での就職 Find job in Japan | V26: □ | X26: 帰国 Return Home | AE26: □ | AG26: その他 Other | AK26: （ | AR26: ）
B27: 在日親族 Family Member in Japan. ※二人以上いる場合、別紙に記入してください。 If you have more than one, fill in a separate sheet attached.
B28: 氏名 Full Name | P28: 国籍 Nationality | X28: 生年月日 Date of birth | AE28: 年 | AH28: 月 | AK28: 日 | AL28: 続柄 Relationship
AD29: Year | AG29: Month | AJ29: Day
B30: 現住所 Address | AE30: 電話番号 Phone#
B31: 勤務先・学校名 Name of Employer or School | P31: ビザ種類 Visa Status | AE31: 在留カード番号 Residence card No.
B32: 経費支弁者 Sponsor
B33: 氏名 Full Name | P33: 国籍 Nationality | X33: 生年月日 Date of birth | AE33: 年 | AH33: 月 | AK33: 日 | AL33: 続柄 Relationship
AD34: Year | AG34: Month | AJ34: Day
B35: 職業 Occupation | P35: 電話番号 Phone# | AD35: 年収 Annual Income
B36: 上記の通り相違ありません。 I hereby declare the above to be true and accurate.
B39: 署名 Signature ： | X39: 申込日 Date： | AG39: 年Year | AL39: 月Month | AQ39: 日Day

Sheet Form2_履歴書
C1: ユニタス日本語学校：（甲府校・東京校）Unitas Japanese Language School (Kofu・Tokyo) | AJ1: 書式 Form-2
P3: 履 歴 書
P4: Personal History
B6: １．氏名 Full Name ： | J6: =Form1_入学願書!O7 -> 0 | AB6: ２．国籍 Nationality ： | AJ6: =Form1_入学願書!H8 -> 0
B8: ３．生年月日 Date of Birth ： | K8: =Form1_入学願書!H9 -> 0 | O8: 年 Year | R8: =Form1_入学願書!L9 -> 0 | U8: 月 Month | X8: =Form1_入学願書!O9 -> 0 | AA8: 日 Day | AD8: ４．性別 Gender ： | AJ8: =Form1_入学願書!X9 -> □ | AK8: 男 Male | AN8: =Form1_入学願書!AD9 -> □ | AO8: 女 Female
B10: ５．現住所 Present Address ： | K10: =Form1_入学願書!H11 -> 0
B13: ６．家族 Family Details
B15: 続柄 Relationship | G15: 氏名 Name | P15: 生年月日 Date of Birth | Y15: 職業 Occupation | AI15: 現住所 Present Address
P16: 年 | S16: 月 | V16: 日
O17: Year | R17: Month | U17: Day
P18: 年 | S18: 月 | V18: 日
O19: Year | R19: Month | U19: Day
P20: 年 | S20: 月 | V20: 日
O21: Year | R21: Month | U21: Day
P22: 年 | S22: 月 | V22: 日
O23: Year | R23: Month | U23: Day
P24: 年 | S24: 月 | V24: 日
O25: Year | R25: Month | U25: Day
B26: 配偶者 Marital Status ： | J26: □ | K26: 無 Single | O26: / | P26: □ | Q26: 有 Married | U26: 配偶者氏名 Name of Spouse
B28: ７．学歴 Education ： | J28: （初等教育から順次最終学歴まで From Primary to the Highest Level Completed）
C29: 学校名 Name of School | N29: 所在地 Address | AC29: 入学年月 Enrollment | AI29: 卒業年月 Graduation | AO29: 修学年数 Years of study
A30: -1 | AE30: / | AK30: / | AR30: 年 Years
A31: -2 | AE31: / | AK31: / | AR31: 年 Years
A32: -3 | AE32: / | AK32: / | AR32: 年 Years
A33: -4 | AE33: / | AK33: / | AR33: 年 Years
A34: -5 | AE34: / | AK34: / | AR34: 年 Years
A35: -6 | AE35: / | AK35: / | AR35: 年 Years
B37: ８．日本語学習歴 Study History of Japanese Language ：
C38: 学校名 Name of School | N38: 所在地 Address | AC38: 入学年月 Enrollment | AI38: 卒業年月 Graduation | AO38: 学習時間 Study Hours
A39: -1 | AE39: / | AK39: / | AR39: 時間 Hours
A40: -2 | AE40: / | AK40: / | AR40: 時間 Hours
B42: ９．職歴 Employment History ：
D43: 勤務先 Name of Employer | U43: 所在地 Address | AG43: 入社年月 Joining Year/Month | AN43: 退社年月 Leaving Year/Month
A44: -1 | AJ44: / | AQ44: /
A45: -2 | AJ45: / | AQ45: /
A46: -3 | AJ46: / | AQ46: /
B48: １０．過去の在留資格認定申請歴 Past history of applying for COE：
B49: □ | D49: 有 Yes | G49: （申請回数 Application： | Q49: 回 Time(s))
G50: （うち不交付となった回数 Non-issuance time(s) of the above applications： | AH50: 回 Time(s))
B51: □ | D51: 無 No
B53: １１．出入国履歴 Immigration History into Japan ：
B54: □ | D54: 有 Yes | G54: （日本への入国回数 Number of times entered Japan： | Z54: 回 Time(s))
B56: □ | D56: 無 No
D57: 入国年月日 Entry Year/Month/day | M57: 出国年 Departure Year/Month/day | Y57: 在留資格 Visa Status | AK57: 入国目的 Purpose of Entry
A58: -1 | F58: / | I58: / | P58: / | S58: /
A59: -2 | F59: / | I59: / | P59: / | S59: /
A60: -3 | F60: / | I60: / | P60: / | S60: /
B62: さらに出入国履歴がある場合は別紙に記入してください。 If you have more, fill in a sparate sheet attached.
B64: １２．就学理由 Reasons for Study ：
B75: １３．修了後の予定 Plans upon Completion of Study at Unitas ：
C76: =_xlfn.TEXTJOIN(", ", TRUE, IF(Form1_入学願書!J25="■", "大学進学 Go to University", ""), IF(Form1_入学願書!T25="■", "大学院進学 Go to Graduate School", ""), IF(Form1_入学願書!AE25="■", "専門学校進学 Go to Vocational College", ""), IF(Form1_入学願書!J26="■", "日本での就職 Find job in Japan", ""), IF(Form1_入学願書!V26="■", "帰国 Return Home", ""), IF(Form1_入学願書!AE26="■", "その他 Other", "") )
B77: □ | D77: 進学 Go to Higher Education | N77: （希望校： | AD77: ） | AE77: （希望学科： | AS77: ）
S78: Prospective School | AJ78: Major
B79: □ | D79: その他 Other | I79: （ | AS79: ）
B81: 以上のことはすべて真実であります。また経費支弁が困難となった場合は、速やかに帰国することを誓約します。
B82: I hereby declare that the above mentioned is true and correct. In case any financial problem occurs, I pledge to return to my home country immediately.
B85: 署名 Signature ： | X85: 作成日 Date ： | AG85: 年Year | AL85: 月Month | AQ85: 日Day

Sheet Form3_経費支弁書
B1: ユニタス日本語学校：（甲府校・東京校）Unitas Japanese Language School (Kofu・Tokyo) | AI1: 書式 Form-3
N3: 経 費 支 弁 書
M4: Statement of Financial Responsibility
B6: 日本国法務大臣 殿
B7: To Japanese Minister of Justice
A9: 申請者（学生） | G9: 氏 名 ： | L9: =Form1_入学願書!O7 -> 0 | AB9: 国 籍 ： | AG9: =Form1_入学願書!H8 -> 0
A10: Applicant（Student） | G10: Full name | AB10: Nationality
G11: 生年月日 ： | L11: =Form1_入学願書!H9 -> 0 | Q11: 年 | R11: =Form1_入学願書!L9 -> 0 | U11: 月 | V11: =Form1_入学願書!O9 -> 0 | Y11: 日
G12: Date of birth | P12: Year | T12: Month | Y12: Day
B13: 私は、上記の者の日本国滞在経費支弁を誓約します。
B14: I hereby pledge that I will take responsibility for payment of the above named applicant's expenses.
B15: また、上記の者が在留期間更新許可申請を行う際には、送金証明書または本人名義の預金通帳（送金事実、経費支弁事実が記載されたもの）の写し等で、生活費等の支弁事実を明らかにする書類を提出します。経費支弁が困難となった場合には、責任を持って速やかに帰国させます。
B18: Moreover when applicant applies for visa extension. I will submit documents as evidence of payment such as a remittance certificate, or the applicant's bank statement. In case any financial problem occurs, I will force applicant to return to their home country immediately.
B21: １．経費支弁の引受経緯 ：（引受経緯及び申請者との関係について具体的に記載してください。）
C22: Please explain your relationship to the above named applicant, and the reasons why you take financial responsibility.
B28: ２．経費支弁内容 Contents of responsibility for payment ：
B29: -1 | D29: 学費 Tuition fee ： | J29: □ | L29: 半年 6 months | Q29: / | R29: □ | T29: 年間 1year | X29: =IF(AND(Form3_経費支弁書!J29="□", Form3_経費支弁書!R29="□"), "", IF(Form1_入学願書!J18="■", IF(Form3_経費支弁書!J29="■", 435000, IF(Form3_経費支弁書!R29="■", 780000, "")), IF(Form1_入学願書!J19="■", IF(Form3_経費支弁書!J29="■", 465000, IF(Form3_経費支弁書!R29="■", 800000, "")), "") )) | AJ29: 円 yen
B30: -2 | D30: 生活費 Living expenses ： | P30: 月額 Monthly | AJ30: 円 yen
B31: -3 | D31: 支弁方法 ： | I31: （振込など支弁事実の証明はビザ更新時に必要となります。）
C32: Method of payment | I32: （Proof of payment should be submitted for visa extension.）
B35: -4 | D35: 在日親族と | I35: □ | K35: 同居 Living with Japan-based relative | X35: / | Y35: □ | AA35: 不同居 Not living with relative
B36: -5 | D36: 申請者がアルバイトにて生活費の一部を負担する場合 If the applicant will work part-time.
D37: 週 | F37: 0 | L37: 時間 | R37: 月 | S37: =IF(ISBLANK(F37),"",F37*1100*4) -> 0 | Y37: 円程度の予定
D38: Scheduled working hours per week | N38: =IF(ISBLANK(F37),"",F37) -> 0 | P38: hrs. | R38: Scheduled income per month about | AB38: =IF(ISBLANK(S37),"",S37) -> 0 | AF38: yen.
B39: 氏名 Full Name | G39: =Form1_入学願書!G33 -> 0 | AB39: 続柄 Relationship | AG39: =Form1_入学願書!AO33 -> 0
B40: 現住所 Present Address | AB40: 電話番号 Home Phone | AG40: =Form1_入学願書!U35 -> 0
B41: 勤務先名 Name of Company | AB41: 業種 Category of Business
B42: 職業 Occupation | G42: =Form1_入学願書!G35 -> 0 | AB42: 電話番号 Office Phone
B44: 上記の通り相違ありません。 I hereby declare the above to be true and acurate.
A45: 署名 （経費支弁者） Signature（Sponsor） ： | W45: 日付 Date： | AE45: 年Year | AJ45: 月Month | AO45: 日Day

Sheet Ringual
A1: 学籍番号 | B1: 入学年月日 | C1: 正式氏名（英字） | D1: 表示用 氏名（日本語） | E1: ビザ申請番号 | F1: 学生ステータス | G1: 学生ステータス 異動日 | H1: 入学前学生ステータス詳細 申請中 | I1: 入学前学生ステータス詳細 入国待ち | J1: 入学前学生ステータス詳細 不交付 | K1: 卒業年月日 | L1: 学科コース | M1: 年度 | N1: 期 | O1: 正式氏名（日本語） | P1: 氏名（フリガナ） | Q1: 国籍・地域 | R1: 申請書表示用 国名 | S1: 生年月日 | T1: 年齢 | U1: 性別 | V1: 出生地 | W1: 本国居住地 | X1: 本国電話番号 | Y1: 本国携帯電話番号 | Z1: 配偶者の有無 | AA1: 職業 | AB1: 入国予定年月日 | AC1: 入国年月日 | AD1: 上陸許可年月日 | AE1: 上陸予定港 | AF1: 滞在予定期間 | AG1: 在籍予定期間（月） | AH1: 査証申請予定地 | AI1: COE交付申請要否 | AJ1: COE交付申請結果 | AK1: COE交付申請した在留資格 | AL1: COE交付申請した時期 | AM1: COE交付申請交付・不交付年月日 | AN1: COE交付申請備考 | AO1: 過去のCOE交付申請回数 | AP1: 過去のCOE交付申請不交付回数 | AQ1: 申請歴等の自己申告 | AR1: COE交付申請面接の有無 | AS1: COE交付申請面接日 | AT1: COE交付申請コメント | AU1: 現住所 郵便番号 | AV1: 現住所 | AW1: 現住所 都道府県 | AX1: 現住所 市区町村 | AY1: 現住所 町名丁目番地号等 | AZ1: 電話番号 | BA1: 携帯電話番号 | BB1: メールアドレス１ | BC1: メールアドレス２ | BD1: 旅券 番号 | BE1: 旅券 有効期限 | BF1: 入国目的（P留学） | BG1: 入国目的（R家族滞在） | BH1: 同伴者の有無 | BI1: 過去の出入国歴の有無 | BJ1: 出入国歴（回数） | BK1: 出入国歴（から～） | BL1: 出入国歴（～まで） | BM1: 卒業後の予定帰国 | BN1: 卒業後の予定日本での進学 | BO1: 卒業後の予定日本での就職 | BP1: 卒業後の予定その他 | BQ1: 卒業後の予定その他 内容 | BR1: エージェント情報 | BS1: 学生ポータル最終ログイン日時 | BT1: 学生ポータルパスワード設定状況 | BU1: 学生ポータル配信メールアドレス | BV1: 学生ポータルプッシュ通知 | BW1: 学生ポータルメモ | BX1: 修学年数（小学校～最終学歴） | BY1: 最終学歴卒業 | BZ1: 最終学歴在学中 | CA1: 最終学歴休学中 | CB1: 最終学歴中退 | CC1: 最終学歴博士 | CD1: 最終学歴修士 | CE1: 最終学歴大学 | CF1: 最終学歴短期大学 | CG1: 最終学歴専門学校 | CH1: 最終学歴高等学校 | CI1: 最終学歴中学校 | CJ1: 最終学歴小学校 | CK1: 最終学歴その他 | CL1: 最終学歴その他（理由） | CM1: 最終学歴全日制 | CN1: 最終学歴通信制 | CO1: 最終学歴学校名 | CP1: 最終学歴卒業又は卒業見込み年月 | CQ1: 最終学歴卒業証書発行機関 | CR1: 最終学歴中退学校名 | CS1: 経歴１_始期 | CT1: 経歴１_終期 | CU1: 経歴１_終期文字 | CV1: 経歴１ | CW1: 経歴２_始期 | CX1: 経歴２_終期 | CY1: 経歴２_終期文字 | CZ1: 経歴２ | DA1: 経歴３_始期 | DB1: 経歴３_終期 | DC1: 経歴３_終期文字 | DD1: 経歴３ | DE1: 経歴４_始期 | DF1: 経歴４_終期 | DG1: 経歴４_終期文字 | DH1: 経歴４ | DI1: 経歴５_始期 | DJ1: 経歴５_終期 | DK1: 経歴５_終期文字 | DL1: 経歴５ | DM1: 経歴６_始期 | DN1: 経歴６_終期 | DO1: 経歴６_終期文字 | DP1: 経歴６ | DQ1: 入学選考時の確認・試験確認レベル | DR1: 入学選考時の確認・面接確認レベル | DS1: 入学選考時の確認・書類確認レベル | DT1: 入学選考時の確認・その他（詳細） | DU1: 日本語能力・試験日 | DV1: 日本語能力・試験名 | DW1: 日本語能力・級または点数 | DX1: 日本語能力・申請教育機関による申告 | DY1: 日本語能力・学習開始時期 | DZ1: 現在の日本語能力・試験名 | EA1: 現在の日本語能力・試験日 | EB1: 現在の日本語能力・級または点数 | EC1: 現在の日本語能力・参照枠の該当要件（その他） | ED1: 現在の日本語能力・試験受験番号 | EE1: 現在の日本語能力・合格証明書番号・成績証明書番号 | EF1: 日本語教育を受けた教育機関名１ | EG1: 日本語教育を受けた教育機関住所１ | EH1: 日本語教育を受けた期間開始１ | EI1: 日本語教育を受けた期間終了１ | EJ1: 日本語教育を受けた期間終了文字１ | EK1: 日本語教育を受けた学習時間１ | EL1: 日本語教育を受けた教育機関名２ | EM1: 日本語教育を受けた教育機関住所２ | EN1: 日本語教育を受けた期間開始２ | EO1: 日本語教育を受けた期間終了２ | EP1: 日本語教育を受けた期間終了文字２ | EQ1: 日本語教育を受けた学習時間２ | ER1: 日本語能力 その他コメント | ES1: 日本語学習歴 機関名 | ET1: 日本語学習履歴 期間開始 | EU1: 日本語学習履歴 期間終了 | EV1: 在留資格認定証明書番号 | EW1: 在留カード番号 | EX1: 在留資格 | EY1: 在留資格を留学に含める | EZ1: 在留期間年 | FA1: 在留期間月 | FB1: 在留期間満了日 | FC1: 在留期間取得日 | FD1: 申請者リストの出席率計算開始年月 | FE1: 前回の申請者リストの出席率計算開始年月 | FF1: 在留期間更新の申請番号 | FG1: 希望する在留資格 | FH1: 希望する在留期間年 | FI1: 希望する在留期間月 | FJ1: 更新の理由 | FK1: 変更の理由 | FL1: 犯罪を理由とする処分を受けたこと | FM1: 具体的内容 | FN1: 過去強制又は出国命令 | FO1: 過去の出入国歴 回数 | FP1: 過去強制又は出国命令 直近の送還歴 | FQ1: 在日親族及び同居者の有無 | FR1: 在日親族1 続柄 | FS1: 在日親族1 氏名 | FT1: 在日親族1 生年月日 | FU1: 在日親族1 国籍・地域 | FV1: 在日親族1 同居有無 | FW1: 在日親族1 通勤先 | FX1: 在日親族1 在留カード番号 | FY1: 在日親族2 続柄 | FZ1: 在日親族2 氏名 | GA1: 在日親族2 生年月日 | GB1: 在日親族2 国籍・地域 | GC1: 在日親族2 同居有無 | GD1: 在日親族2 通勤先 | GE1: 在日親族2 在留カード番号 | GF1: 在日親族3 続柄 | GG1: 在日親族3 氏名 | GH1: 在日親族3 生年月日 | GI1: 在日親族3 国籍・地域 | GJ1: 在日親族3 同居有無 | GK1: 在日親族3 通勤先 | GL1: 在日親族3 在留カード番号 | GM1: 在日親族4 続柄 | GN1: 在日親族4 氏名 | GO1: 在日親族4 生年月日 | GP1: 在日親族4 国籍・地域 | GQ1: 在日親族4 同居有無 | GR1: 在日親族4 通勤先 | GS1: 在日親族4 在留カード番号 | GT1: 在日親族5 続柄 | GU1: 在日親族5 氏名 | GV1: 在日親族5 生年月日 | GW1: 在日親族5 国籍・地域 | GX1: 在日親族5 同居有無 | GY1: 在日親族5 通勤先 | GZ1: 在日親族5 在留カード番号 | HA1: 在日親族6 続柄 | HB1: 在日親族6 氏名 | HC1: 在日親族6 生年月日 | HD1: 在日親族6 国籍・地域 | HE1: 在日親族6 同居有無 | HF1: 在日親族6 通勤先 | HG1: 在日親族6 在留カード番号 | HH1: 本邦における申請人の監護人氏名 | HI1: 本邦における申請人の監護人本人との関係 | HJ1: 本邦における申請人の監護人住所 | HK1: 本邦における申請人の監護人電話番号 | HL1: 本邦における申請人の監護人携帯電話番号 | HM1: 代理人氏名 | HN1: 代理人本人との関係 | HO1: 代理人住所 | HP1: 代理人電話番号 | HQ1: 代理人携帯電話番号 | HR1: 支弁方法及び月平均支弁額本人負担金額 | HS1: 支弁方法及び月平均支弁額在外経費支弁者負担金額 | HT1: 支弁方法及び月平均支弁額在日経費支弁者負担金額 | HU1: 支弁方法及び月平均支弁額奨学金金額 | HV1: 支弁方法及び月平均支弁額その他金額 | HW1: 支弁方法及び月平均支弁額備考 | HX1: 送金・携行の別外国からの携行金額 | HY1: 送金・携行の別外国からの携行時期 | HZ1: 送金・携行の別外国からの携行者 | IA1: 送金・携行の別外国からの携行者との関係 | IB1: 送金・携行の別外国からの送金金額 | IC1: 送金・携行の別外国からの送金時期 | ID1: 送金・携行の別その他金額 | IE1: 経費支弁者支弁者１ 氏名 | IF1: 経費支弁者支弁者１ 住所 | IG1: 経費支弁者支弁者１ 電話番号 | IH1: 経費支弁者支弁者１ 職業 勤務先名 | II1: 経費支弁者支弁者１ 勤務先電話番号 | IJ1: 経費支弁者支弁者１ 年収 | IK1: 経費支弁者支弁者１ コメント、為替レートなど | IL1: 経費支弁者支弁者２ 氏名 | IM1: 経費支弁者支弁者２ 住所 | IN1: 経費支弁者支弁者２ 電話番号 | IO1: 経費支弁者支弁者２ 職業 勤務先名 | IP1: 経費支弁者支弁者２ 勤務先電話番号 | IQ1: 経費支弁者支弁者２ 年収 | IR1: 経費支弁者支弁者２ コメント、為替レートなど | IS1: 申請者との関係夫 | IT1: 申請者との関係妻 | IU1: 申請者との関係父 | IV1: 申請者との関係母 | IW1: 申請者との関係祖父 | IX1: 申請者との関係祖母 | IY1: 申請者との関係養父 | IZ1: 申請者との関係養母 | JA1: 申請者との関係兄弟姉妹 | JB1: 申請者との関係叔父 伯父 叔母 伯母 | JC1: 申請者との関係受入教育機関 | JD1: 申請者との関係友人 知人 | JE1: 申請者との関係友人 知人の親戚 | JF1: 申請者との関係取引関係者 現地企業等職員 | JG1: 申請者との関係取引関係者 現地企業等職員の親戚 | JH1: 申請者との関係その他 | JI1: 申請者との関係その他 コメント | JJ1: 奨学金支給機関外国政府 | JK1: 奨学金支給機関日本国政府 | JL1: 奨学金支給機関地方公共団体 | JM1: 奨学金支給機関公益社団又は公益財団法人 | JN1: 奨学金支給機関公益社団又は公益財団法人 名称 | JO1: 奨学金支給機関その他 | JP1: 奨学金支給機関その他 名称 | JQ1: 経費支弁者への調査家庭訪問 | JR1: 経費支弁者への調査職場訪問 | JS1: 経費支弁者への調査電話による在職確認 | JT1: 経費支弁者への調査存款証明紫外線検査 | JU1: 学納金納付状況 | JV1: 同居している家族の人数 | JW1: アパート等入居先賃貸額 | JX1: その他生活費
B2: =Lookups!B6&"/"&Lookups!C6&"/"&Lookups!D6 -> #N/A | C2: =Form1_入学願書!O7 -> 0 | D2: =Form1_入学願書!O7 -> 0 | E2: 301 | F2: 入学前 | K2: =Lookups!B7&"/"&Lookups!C7&"/"&Lookups!D7 -> 0/0/ | L2: =INDEX(Lookups!I63:I74, MATCH(Form1_入学願書!J21, Lookups!C50:C61, 0)) -> #N/A | M2: =Lookups!B6 -> 0 | N2: =Lookups!C6&"月期" -> #N/A | S2: =Form1_入学願書!H9&"/"&VLOOKUP(Form1_入学願書!L9,Lookups!A11:B22,2,FALSE)&"/"&Form1_入学願書!O9 -> #N/A | T2: =YEAR(NOW())-YEAR(S2) -> #N/A | U2: =IF(Form1_入学願書!X9="■","男性",IF(Form1_入学願書!AD9="■","女性","")) | V2: =Form1_入学願書!X8 -> 0 | W2: =Form1_入学願書!H11 -> 0 | X2: =Form1_入学願書!H12 -> 0 | Y2: =Form1_入学願書!U12 -> 0 | Z2: =IF(Form2_履歴書!J26="■","無",IF(Form2_履歴書!P26="■","有","")) | AB2: =B2 -> #N/A | AE2: 成田空港 | AF2: {=_xlfn.IFS( YEARFRAC(B2,K2)>=1.95, "2年", YEARFRAC(B2,K2)>=1.75, "1.9年", YEARFRAC(B2,K2)>=1.45, "1.6年", YEARFRAC(B2,K2)>=1.15, "1.3年", YEARFRAC(B2,K2)>=0.85, "1年", TRUE, "" )} -> #N/A | AI2: 必要 | AK2: 留学 | AO2: =IF(Form2_履歴書!O49="", "", Form2_履歴書!O49) | AP2: =IF(Form2_履歴書!AF50="", "", Form2_履歴書!AF50) | AQ2: =IF(TRIM(AP2)<>"", "不交付歴あり", "") | AV2: 東京都新宿区大久保2-2-9 22山京ビル3階 | AZ2: 03-5287-5636 | BB2: =Form1_入学願書!AI12 -> 0 | BD2: =Form1_入学願書!H13 -> 0 | BE2: =IF(AND(Form1_入学願書!AI13="", Form1_入学願書!AM13="", Form1_入学願書!AP13=""), "", Form1_入学願書!AI13 & "/" & Form1_入学願書!AM13 & "/" & Form1_入学願書!AP13) | BF2: 入国目的（P留学） | BH2: 無 | BI2: =IF(Form2_履歴書!B54="■", "有", IF(Form2_履歴書!B54="□", "無", "")) -> 無 | BJ2: =IF(TRIM(Form2_履歴書!X54)="", "", Form2_履歴書!X54) | BK2: =IF(AND(TRIM(Form2_履歴書!C58)="", TRIM(Form2_履歴書!G58)="", TRIM(Form2_履歴書!J58)=""), "", Form2_履歴書!C58&"/"&Form2_履歴書!G58&"/"&Form2_履歴書!J58) | BL2: =IF(AND(TRIM(Form2_履歴書!M58)="", TRIM(Form2_履歴書!Q58)="", TRIM(Form2_履歴書!T58)=""), "", Form2_履歴書!M58&"/"&Form2_履歴書!Q58&"/"&Form2_履歴書!T58) | BM2: =IF(Form1_入学願書!V26="■",Ringual!BM1,"") | BN2: =IF(OR(Form1_入学願書!J25="■", Form1_入学願書!T25="■", Form1_入学願書!AE25="■"), Ringual!BN1, "") | BO2: =IF(Form1_入学願書!J26="■",Ringual!BO1,"") | BP2: =IF(Form1_入学願書!AE26="■",Ringual!BP1,"") | BQ2: =IF(TRIM(SUBSTITUTE(Form1_入学願書!AL26," ",""))="", "", Form1_入学願書!AL26) | BX2: =Form2_履歴書!AO30+Form2_履歴書!AO31+Form2_履歴書!AO32+Form2_履歴書!AO33+Form2_履歴書!AO34+Form2_履歴書!AO35 -> 0 | BY2: {=IF(SUMPRODUCT(--(IF((ISNUMBER(Lookups!$AQ$12:$AQ$17))*(ISNUMBER(Lookups!$AR$12:$AR$17))*(Lookups!$AR$12:$AR$17>=1)*(Lookups!$AR$12:$AR$17<=12), DATE(Lookups!$AQ$12:$AQ$17, Lookups!$AR$12:$AR$17, 1) > TODAY(), FALSE))) > 0, "", BY1)} -> 最終学歴卒業 | BZ2: {=IF(SUMPRODUCT(--(IF((ISNUMBER(Lookups!$AQ$12:$AQ$17))*(ISNUMBER(Lookups!$AR$12:$AR$17))*(Lookups!$AR$12:$AR$17>=1)*(Lookups!$AR$12:$AR$17<=12), DATE(Lookups!$AQ$12:$AQ$17, Lookups!$AR$12:$AR$17, 1) > TODAY(), FALSE))) > 0, BZ1, "")} | CC2: =IF(Form1_入学願書!J16="□", "", IF(Form1_入学願書!J16="■", CC1, "")) | CD2: =IF(Form1_入学願書!U16="□", "", IF(Form1_入学願書!U16="■", CD1, "")) | CE2: =IF(Form1_入学願書!AG16="□", "", IF(Form1_入学願書!AG16="■", CE1, "")) | CF2: =IF(Form1_入学願書!J17="□", "", IF(Form1_入学願書!J17="■", CF1, "")) | CG2: =IF(Form1_入学願書!U17="□", "", IF(Form1_入学願書!U17="■", CG1, "")) | CH2: =IF(Form1_入学願書!AG17="□", "", IF(Form1_入学願書!AG17="■", CH1, "")) | CO2: {=LOOKUP(2,1/(Form2_履歴書!C30:C35<>""),Form2_履歴書!C30:C35)} -> #N/A | CP2: {=TEXT( MAX(_xlfn._xlws.FILTER(DATE(Lookups!$AQ$12:$AQ$17, Lookups!$AR$12:$AR$17, 1), (ISNUMBER(Lookups!$AQ$12:$AQ$17))* (ISNUMBER(Lookups!$AR$12:$AR$17))* (Lookups!$AR$12:$AR$17>=1)* (Lookups!$AR$12:$AR$17<=12) )), "yyyy/m")} -> #VALUE! | CS2: {=TEXT( MAX(_xlfn._xlws.FILTER(DATE(Lookups!$AQ$5:$AQ$10, Lookups!$AR$5:$AR$10, 1), (ISNUMBER(Lookups!$AQ$5:$AQ$10))* (ISNUMBER(Lookups!$AR$5:$AR$10))* (Lookups!$AR$5:$AR$10>=1)* (Lookups!$AR$5:$AR$10<=12) )), "yyyy/m")} -> #VALUE! | CT2: {=TEXT( MAX(_xlfn._xlws.FILTER(DATE(Lookups!$AQ$12:$AQ$17, Lookups!$AR$12:$AR$17, 1), (ISNUMBER(Lookups!$AQ$12:$AQ$17))* (ISNUMBER(Lookups!$AR$12:$AR$17))* (Lookups!$AR$12:$AR$17>=1)* (Lookups!$AR$12:$AR$17<=12) )), "yyyy/m")} -> #VALUE! | CV2: {=LOOKUP(2,1/(Form2_履歴書!C30:C35<>""),Form2_履歴書!C30:C35)} -> #N/A | CW2: =IF(AND(TRIM(Form2_履歴書!AC40)<>"", TRIM(Form2_履歴書!AF40)<>""), Form2_履歴書!AC40 & "/" & Form2_履歴書!AF40, "") | CX2: =IF(AND(TRIM(Form2_履歴書!AI40)<>"", TRIM(Form2_履歴書!AL40)<>""), Form2_履歴書!AI40 & "/" & Form2_履歴書!AL40, "") | CZ2: =IF(TRIM(Form2_履歴書!C39)="", "", Form2_履歴書!C39) | DA2: =IF(AND(TRIM(Form2_履歴書!AC40)<>"", TRIM(Form2_履歴書!AF40)<>""), Form2_履歴書!AC40 & "/" & Form2_履歴書!AF40, "") | DB2: =IF(AND(TRIM(Form2_履歴書!AI40)<>"", TRIM(Form2_履歴書!AL40)<>""), Form2_履歴書!AI40 & "/" & Form2_履歴書!AL40, "") | DD2: =IF(TRIM(Form2_履歴書!C40)="", "", Form2_履歴書!C40) | DE2: =IF(AND(TRIM(Form2_履歴書!AG44)<>"", TRIM(Form2_履歴書!AK44)<>""), Form2_履歴書!AG44 & "/" & Form2_履歴書!AK44, "") | DF2: =IF(AND(TRIM(Form2_履歴書!AN44)<>"", TRIM(Form2_履歴書!AR44)<>""), Form2_履歴書!AN44 & "/" & Form2_履歴書!AR44, "") | DH2: =IF(TRIM(Form2_履歴書!C44)="", "", Form2_履歴書!C44) | DI2: =IF(AND(TRIM(Form2_履歴書!AG45)<>"", TRIM(Form2_履歴書!AK45)<>""), Form2_履歴書!AG45 & "/" & Form2_履歴書!AK45, "") | DJ2: =IF(AND(TRIM(Form2_履歴書!AN45)<>"", TRIM(Form2_履歴書!AR45)<>""), Form2_履歴書!AN45 & "/" & Form2_履歴書!AR45, "") | DL2: =IF(TRIM(Form2_履歴書!C45)="", "", Form2_履歴書!C45) | DM2: =IF(AND(TRIM(Form2_履歴書!AG46)<>"", TRIM(Form2_履歴書!AK46)<>""), Form2_履歴書!AG46 & "/" & Form2_履歴書!AK46, "") | DN2: =IF(AND(TRIM(Form2_履歴書!AN46)<>"", TRIM(Form2_履歴書!AR46)<>""), Form2_履歴書!AN46 & "/" & Form2_履歴書!AR46, "") | DP2: =IF(TRIM(Form2_履歴書!C46)="", "", Form2_履歴書!C46) | DV2: =IF(LEN(TRIM(Form1_入学願書!L14))=0, "", Form1_入学願書!L14) | DW2: =IF(LEN(TRIM(Form1_入学願書!X14))=0, "", Form1_入学願書!X14) | EF2: =IF(LEN(TRIM(Form2_履歴書!C39))=0, "", Form2_履歴書!C39) | EG2: =IF(LEN(TRIM(Form2_履歴書!N39))=0, "", Form2_履歴書!N39) | EH2: =IF(Lookups!AU12=0, "", TEXT(DATE(Lookups!AU12, Lookups!AV12, 1), "yyyy/m")) | EI2: =IF(Lookups!AX12=0, "", TEXT(DATE(Lookups!AX12, Lookups!AY12, 1), "yyyy/m")) | EK2: =IF(LEN(TRIM(Form2_履歴書!AO39))=0, "", Form2_履歴書!AO39) | EL2: =IF(LEN(TRIM(Form2_履歴書!C40))=0, "", Form2_履歴書!C40) | EM2: =IF(LEN(TRIM(Form2_履歴書!N40))=0, "", Form2_履歴書!N40) | EN2: =IF(Lookups!AU13=0, "", TEXT(DATE(Lookups!AU13, Lookups!AV13, 1), "yyyy/m")) | EO2: =IF(Lookups!AX13=0, "", TEXT(DATE(Lookups!AX13, Lookups!AY13, 1), "yyyy/m")) | EQ2: =IF(LEN(TRIM(Form2_履歴書!AO40))=0, "", Form2_履歴書!AO40) | EZ2: 1 | FA2: 3 | FH2: 0 | FI2: 0 | FL2: 無 | FN2: 無 | FQ2: =IF(TRIM(Form1_入学願書!G30)="", "無", "有") -> 無 | FR2: =IF(LEN(TRIM(Form1_入学願書!AO28))=0, "", Form1_入学願書!AO28) | FS2: =IF(LEN(TRIM(Form1_入学願書!G28))=0, "", Form1_入学願書!G28) | FT2: =IF(OR(LEN(Form1_入学願書!AB28)=0, LEN(Form1_入学願書!AF28)=0, LEN(Form1_入学願書!AI28)=0), "", Form1_入学願書!AB28 & "/" & Form1_入学願書!AF28 & "/" & Form1_入学願書!AI28) | FU2: =IF(LEN(TRIM(Form1_入学願書!S28))=0, "", Form1_入学願書!S28) | FV2: =IF(Form3_経費支弁書!I35="■", "有", IF(Form3_経費支弁書!Y35="■", "無", "")) | FW2: =IF(LEN(TRIM(Form1_入学願書!G31))=0, "", Form1_入学願書!G31) | FX2: =IF(LEN(TRIM(Form1_入学願書!AJ31))=0, "", Form1_入学願書!AJ31) | HN2: 受入教育機関の職員 | HO2: 東京都新宿区⼤久保2-2-9 22⼭京ビル3階 | HP2: 03-5287-5636 | HQ2: 無 | HR2: =IF(Form3_経費支弁書!AG39="申請者本人/Self",Form3_経費支弁書!X30,"") | HS2: =IF(AND(TRIM(HR2)="", TRIM(HT2)=""), Form3_経費支弁書!X30, "") | HT2: =Lookups!FW3 -> 0 | HV2: =Form3_経費支弁書!S37 -> 0 | HW2: 入学金・授業料については入学時に納入, 入国後にアルバイトを開始予定 | IE2: =Form1_入学願書!G33 -> 0 | IF2: =Form3_経費支弁書!G40 -> 0 | IG2: =Form1_入学願書!U35 -> 0 | IH2: =Form3_経費支弁書!G41 -> 0 | II2: =Form3_経費支弁書!AG42 -> 0 | IJ2: 約円 | IS2: =IF(Form3_経費支弁書!$AG$39="夫/Husband", IS1, "") | IT2: =IF(Form3_経費支弁書!$AG$39="妻/Wife", IT1, "") | IU2: =IF(Form3_経費支弁書!$AG$39="父/Father", IU1, "") | IV2: =IF(Form3_経費支弁書!$AG$39="母/Mother", IV1, "") | IW2: =IF(Form3_経費支弁書!$AG$39="祖父/Grandfather", IW1, "") | IX2: =IF(Form3_経費支弁書!$AG$39="祖母/Grandmother", IX1, "") | IY2: =IF(Form3_経費支弁書!$AG$39="養父/Foster Father", IY1, "") | IZ2: =IF(Form3_経費支弁書!$AG$39="養母/Foster Mother", IZ1, "") | JA2: =IF(OR( ISNUMBER(SEARCH("兄", Form3_経費支弁書!AG39)), ISNUMBER(SEARCH("弟", Form3_経費支弁書!AG39)), ISNUMBER(SEARCH("姉", Form3_経費支弁書!AG39)), ISNUMBER(SEARCH("妹", Form3_経費支弁書!AG39)) ), JA1, "") | JB2: =IF(OR( ISNUMBER(SEARCH("叔父", Form3_経費支弁書!AG39)), ISNUMBER(SEARCH("伯父", Form3_経費支弁書!AG39)), ISNUMBER(SEARCH("叔母", Form3_経費支弁書!AG39)), ISNUMBER(SEARCH("伯母", Form3_経費支弁書!AG39)) ), JB1, "") | JH2: =IF(OR( ISNUMBER(MATCH(Form3_経費支弁書!AG39, Lookups!BG15:BG30, 0)), ISNUMBER(MATCH(Form3_経費支弁書!AG39, Lookups!BG33:BG34, 0)) ), "申請者との関係その他", "")
E3: 301 | Q3: =Form1_入学願書!H8 -> 0 | AA3: 会社員 | AV3: 山梨県甲府市宝1-20-22 | AZ3: 055-233-3835 | CU3: 在学中/在職中 | CY3: 在学中/在職中 | DC3: 在学中/在職中 | DG3: 在学中/在職中 | DK3: 在学中/在職中 | DO3: 在学中/在職中 | EJ3: 在学中 | EP3: 在学中 | HO3: 山梨県甲府市宝1-20-22 | HP3: 055-233-3835
E4: 606 | AA4: 留学準備中 | AV4: 東京都新宿区大久保2-2-9 22山京ビル3階 | AZ4: 03-5287-5636 | FY4: 2人目以降の在日親族は、手入力でお願いします！ | HO4: 東京都新宿区⼤久保2-2-9 22⼭京ビル3階 | HP4: 03-5287-5636 | IJ4: 約円 | IK4: 1INR=1.80円 | JI4: ↑具体的な関係性を記入or Ringualに直接記入でお願いします！
AA5: 学生 | CS5: 経歴1は最終学歴が自動入力されます。 | JI5: 申請人本人
CS6: 経歴2と3は日本語学習歴が自動入力されます。 | JI6: いとこ
CS7: 経歴4と5と6は、職歴が自動入力されます。
CT8: →うまくいかない時は、手入力でお願いします！

Sheet Lookups
A3: (agent) | B3: calced from form 1 | G3: MI 1 | K3: calc from course and MI 1 | L3: calc from MI 1 and shinro | M3: based off MI 1 | T3: calced from bday | AB3: CALC | AH3: MI POST 1 | BF3: CALC | BH3: =VLOOKUP(Form2_履歴書!G58,Lookups!A11:B22,2,FALSE)&"/"&Form2_履歴書!J58&"/"&Form2_履歴書!C58 -> #N/A | BI3: =VLOOKUP(Form2_履歴書!Q58,Lookups!A11:B22,2,FALSE)&"/"&Form2_履歴書!T58&"/"&Form2_履歴書!M58 -> #N/A | BO3: mi post 3 | CG3: calc | CI3: MI POST 2 | DC3: =IF(Form1_入学願書!#REF!="■","日本語能力試験 "&" ("&Form1_入学願書!#REF!&"年"&VLOOKUP(Form1_入学願書!#REF!,Lookups!A11:B22,2,FALSE)&"月)","") -> #REF! | DD3: =Form1_入学願書!#REF!&" 合格" -> #REF! | DL3: {=IF(Ringual!DV2="",IF(CJ17="",CJ16:CL16,CJ17:CL17),DL4:DN4)} | FV3: =IF(Form3_経費支弁書!AG39="Self",Form3_経費支弁書!X30,"") | FW3: =IF(Form1_入学願書!G33=Form1_入学願書!G28,Form3_経費支弁書!X30,"") -> 0 | GN3: =MID(Lookups!GN4,1,LEN(Lookups!GN4)-4) -> #VALUE! | GV3: =VLOOKUP(Form3_経費支弁書!AG39,Lookups!BF5:BG34,2,FALSE) -> #N/A | GW3: =SUBSTITUTE(Ringual!IS1,"申請者との関係","") -> 夫 | GX3: =SUBSTITUTE(Ringual!IT1,"申請者との関係","") -> 妻 | GY3: =SUBSTITUTE(Ringual!IU1,"申請者との関係","") -> 父 | GZ3: =SUBSTITUTE(Ringual!IV1,"申請者との関係","") -> 母 | HA3: =SUBSTITUTE(Ringual!IW1,"申請者との関係","") -> 祖父 | HB3: =SUBSTITUTE(Ringual!IX1,"申請者との関係","") -> 祖母 | HC3: =SUBSTITUTE(Ringual!IY1,"申請者との関係","") -> 養父 | HD3: =SUBSTITUTE(Ringual!IZ1,"申請者との関係","") -> 養母 | ... HM3: =SUBSTITUTE(Ringual!JI1,"申請者との関係","") -> その他 コメント
BH4: =VLOOKUP(Form2_履歴書!G59,Lookups!A12:B23,2,FALSE)&"/"&Form2_履歴書!J59&"/"&Form2_履歴書!C59 -> #N/A | BI4: =VLOOKUP(Form2_履歴書!Q59,Lookups!A12:B23,2,FALSE)&"/"&Form2_履歴書!T59&"/"&Form2_履歴書!M59 -> #N/A | CG4: =COUNTA(CG5:CG10) -> 1 | DC4: =" ("&Form1_入学願書!AI14&"年"&VLOOKUP(Form1_入学願書!AN14,Lookups!A11:B22,2,FALSE)&"月)" -> #N/A | DL4: ="" | DM4: ="" | DN4: ="" | DY4: sponsor | DZ4: sign | EA4: families | GN4: =SUBSTITUTE(Form1_入学願書!AI35,",","") | HL4: {=_xlfn._xlws.FILTER(Ringual!IS2:JB2,NOT(ISBLANK(Ringual!IS2:JB2)))}
S5: =VLOOKUP(Form1_入学願書!L9,$A$11:$B$22,2,FALSE) -> #N/A | T5: {=_xlfn.SEQUENCE(200,1,1900)} -> 1900 | AB5: {=CJ10:CL20} | AF5: {=IFERROR(_xlfn._xlws.FILTER(AB5:AD10,AC5:AC10=""),"")} | AJ5: {=IFERROR(_xlfn._xlws.FILTER(AF5:AH10,AH5:AH10<>""),"")} | AQ5: =Form2_履歴書!AC30 -> 0 | AR5: =Form2_履歴書!AF30 -> 0 | AZ5: {=IF(ISBLANK(Form1_入学願書!U13),"Enter Issue Year",_xlfn.SEQUENCE(20,1,Form1_入学願書!U13,1))} -> Enter Issue Year | BA5: =VLOOKUP(Form1_入学願書!Y13,$A$11:$B$22,2,FALSE) -> #N/A | BB5: =VLOOKUP(Form1_入学願書!AM13,$A$11:$B$22,2,FALSE) -> #N/A | BE5: 父 | BF5: Father | BG5: =BE5&"/"&BF5 -> 父/Father | BH5: =VLOOKUP(Form2_履歴書!G60,Lookups!A13:B24,2,FALSE)&"/"&Form2_履歴書!J60&"/"&Form2_履歴書!C60 -> #N/A | BI5: =VLOOKUP(Form2_履歴書!Q60,Lookups!A13:B24,2,FALSE)&"/"&Form2_履歴書!T60&"/"&Form2_履歴書!M60 -> #N/A | CG5: {=_xlfn._xlws.FILTER(Form2_履歴書!C30:C35,NOT(ISBLANK(Form2_履歴書!C30:C35)))} -> #VALUE! | DC5: =IF(Form1_入学願書!L14="■",Form1_入学願書!N14,IF(Form1_入学願書!R14="■",Form1_入学願書!S14,IF(Form1_入学願書!V14="■",Form1_入学願書!W14,IF(Form1_入学願書!L15="■",Form1_入学願書!N15,IF(Form1_入学願書!P15="■",Form1_入学願書!T15,""))))) | DX5: =VLOOKUP(Form1_入学願書!AF28,$A$11:$B$22,2,FALSE) -> #N/A | DY5: =VLOOKUP(Form1_入学願書!AF33,$A$11:$B$22,2,FALSE) -> #N/A | DZ5: =VLOOKUP(Form1_入学願書!AJ39,$A$11:$B$22,2,FALSE) -> #N/A | EA5: =VLOOKUP(Form2_履歴書!Q16,$A$11:$B$22,2,FALSE) -> #N/A | EB5: =VLOOKUP(Form2_履歴書!Q18,$A$11:$B$22,2,FALSE) -> #N/A | EC5: =VLOOKUP(Form2_履歴書!Q20,$A$11:$B$22,2,FALSE) -> #N/A | ED5: =VLOOKUP(Form2_履歴書!Q22,$A$11:$B$22,2,FALSE) -> #N/A | EE5: =VLOOKUP(Form2_履歴書!Q24,$A$11:$B$22,2,FALSE) -> #N/A
B6: =Form1_入学願書!M20 -> 0 | C6: =VLOOKUP(Form1_入学願書!T20,Lookups!A11:B22,2,FALSE) -> #N/A | D6: 1 | L6: 一般コース（２年） | P6: China | Q6: 中国 | S6: {=IF(S5=2,IF(MOD(Form1_入学願書!H9,4)=0,_xlfn.SEQUENCE(29),_xlfn.SEQUENCE(28)),IF(OR(S5={4,6,9,11}),_xlfn.SEQUENCE(30),_xlfn.SEQUENCE(31)))} -> #N/A | T6: 1901 | AQ6: =Form2_履歴書!AC31 -> 0 | AR6: =Form2_履歴書!AF31 -> 0 | BA6: {=IF(BA5=2,IF(MOD(Form1_入学願書!U13,4)=0,_xlfn.SEQUENCE(29),_xlfn.SEQUENCE(28)),IF(OR(BA5={4,6,9,11}),_xlfn.SEQUENCE(30),_xlfn.SEQUENCE(31)))} -> #N/A | BB6: {=IF(BB5=2,IF(MOD(Form1_入学願書!AI13,4)=0,_xlfn.SEQUENCE(29),_xlfn.SEQUENCE(28)),IF(OR(BB5={4,6,9,11}),_xlfn.SEQUENCE(30),_xlfn.SEQUENCE(31)))} -> #N/A | BE6: 母 | BF6: Mother | BG6: =BE6&"/"&BF6 -> 母/Mother | DC6: =DC5&DC4 -> #N/A | DD6: =Form1_入学願書!Y14&"級 合格" -> 級 合格 | DX6: {=IF(DX5=2,IF(MOD(Form1_入学願書!AB28,4)=0,_xlfn.SEQUENCE(29),_xlfn.SEQUENCE(28)),IF(OR(DX5={4,6,9,11}),_xlfn.SEQUENCE(30),_xlfn.SEQUENCE(31)))} -> #N/A | DY6: {=IF(DY5=2,IF(MOD(Form1_入学願書!AB33,4)=0,_xlfn.SEQUENCE(29),_xlfn.SEQUENCE(28)),IF(OR(DY5={4,6,9,11}),_xlfn.SEQUENCE(30),_xlfn.SEQUENCE(31)))} -> #N/A | DZ6: {=IF(DZ5=2,IF(MOD(Form1_入学願書!AD39,4)=0,_xlfn.SEQUENCE(29),_xlfn.SEQUENCE(28)),IF(OR(DZ5={4,6,9,11}),_xlfn.SEQUENCE(30),_xlfn.SEQUENCE(31)))} -> #N/A | EA6: {=IF(EA5=2,IF(MOD(Form2_履歴書!N16,4)=0,_xlfn.SEQUENCE(29),_xlfn.SEQUENCE(28)),IF(OR(EA5={4,6,9,11}),_xlfn.SEQUENCE(30),_xlfn.SEQUENCE(31)))} -> #N/A | EB6: {=IF(EB5=2,IF(MOD(Form2_履歴書!N18,4)=0,_xlfn.SEQUENCE(29),_xlfn.SEQUENCE(28)),IF(OR(EB5={4,6,9,11}),_xlfn.SEQUENCE(30),_xlfn.SEQUENCE(31)))} -> #N/A | EC6: {=IF(EC5=2,IF(MOD(Form2_履歴書!N20,4)=0,_xlfn.SEQUENCE(29),_xlfn.SEQUENCE(28)),IF(OR(EC5={4,6,9,11}),_xlfn.SEQUENCE(30),_xlfn.SEQUENCE(31)))} -> #N/A | ED6: {=IF(ED5=2,IF(MOD(Form2_履歴書!N22,4)=0,_xlfn.SEQUENCE(29),_xlfn.SEQUENCE(28)),IF(OR(ED5={4,6,9,11}),_xlfn.SEQUENCE(30),_xlfn.SEQUENCE(31)))} -> #N/A | EE6: {=IF(EE5=2,IF(MOD(Form2_履歴書!N24,4)=0,_xlfn.SEQUENCE(29),_xlfn.SEQUENCE(28)),IF(OR(EE5={4,6,9,11}),_xlfn.SEQUENCE(30),_xlfn.SEQUENCE(31)))} -> #N/A
B7: =Form1_入学願書!AF20 -> 0 | C7: =Form1_入学願書!AM20 -> 0 | D7: =IF(OR(C7=3,C7=12),31,IF(OR(C7=6,C7=9),30,"")) | J7: 4 | K7: 3/31 | L7: 進学コース（１年３ヶ月） | P7: Vietnam | Q7: ベトナム | T7: 1902 | AQ7: =Form2_履歴書!AC32 -> 0 | AR7: =Form2_履歴書!AF32 -> 0 | BE7: 祖父 | BF7: Grandfather | BG7: =BE7&"/"&BF7 -> 祖父/Grandfather | CI7: 履歴書
J8: 7 | K8: 6/30 | L8: 進学コース（１年９ヶ月） | P8: India | Q8: インド | T8: 1903 | AQ8: =Form2_履歴書!AC33 -> 0 | AR8: =Form2_履歴書!AF33 -> 0 | BE8: 祖母 | BF8: Grandmother | BG8: =BE8&"/"&BF8 -> 祖母/Grandmother | CI8: {=INDIRECT(CI7&"!C"&29+CG4)} -> #REF! | CR8: =COLUMN() -> 96 | CS8: =COLUMN() -> 97 | CT8: =COLUMN() -> 98
B9: date format | C9: yyyy/mm/dd | J9: 10 | K9: 9/30 | L9: 進学コース（１年６ヶ月） | P9: Myanmar | Q9: ミャンマー | T9: 1904 | AQ9: =Form2_履歴書!AC34 -> 0 | AR9: =Form2_履歴書!AF34 -> 0 | BE9: 伯父・叔父 | BF9: Uncle | BG9: =BE9&"/"&BF9 -> 伯父・叔父/Uncle | CJ9: KR ZENBU | CO9: month lookup (00) | CR9: FILTERED KR | CX9: FINAL KR
C10: 28 | D10: 29 | E10: 30 | F10: 31 | G10: 4 | H10: FEB | I10: VLOOKUP(H10,$A$11:$B$22,2,FALSE) | J10: 1 | K10: 12/31 | L10: 進学コース（１年３ヶ月） | P10: Philippines | Q10: フィリピン | T10: 1905 | AQ10: =Form2_履歴書!AC35 -> 0 | AR10: =Form2_履歴書!AF35 -> 0 | BE10: 伯母・叔母 | BF10: Aunt | BG10: =BE10&"/"&BF10 -> 伯母・叔母/Aunt | CH10: =CM10-CI10 -> 2025 | CI10: =IF(ISBLANK(CL10),"",_xlfn.NUMBERVALUE(LEFT(CJ10,4))) -> 0 | CJ10: =IF(ISBLANK(Form2_履歴書!$C30),"",Form2_履歴書!AC30&"年"&VLOOKUP(Form2_履歴書!AF30,Lookups!$CO$10:$CP$21,2,FALSE)&"月") | CK10: =IF(ISBLANK(Form2_履歴書!$C30),"",IFERROR(Form2_履歴書!AK30&"年"&VLOOKUP(Form2_履歴書!AO30,Lookups!$CO$10:$CP$21,2,FALSE)&"月","")) | CL10: =IF(ISBLANK(Form2_履歴書!C30),"",Form2_履歴書!C30) | CM10: =IF(ISBLANK(CL10),"",IF(CK10="",YEAR(NOW()),_xlfn.NUMBERVALUE(LEFT(CK10,4)))) -> 2025 | CN10: =IF(ISBLANK(CL10),"",IF(CK10="",12,_xlfn.NUMBERVALUE(MID(CK10,6,2)))) -> 12 | CO10: JAN | CP10: 01 | CR10: {=_xlfn._xlws.SORT(_xlfn._xlws.SORT(_xlfn._xlws.FILTER($CJ$10:$CN$20,$CM$10:$CM$20>YEAR(NOW())-6),5,1),4,1)} | CU10: 2025 | CV10: 12 | CX10: {=IF(COUNTA(CR10:CR20)>6,INDIRECT("R"&COUNTA(CR10:CR20)+3&"C96:R"&COUNTA(CR10:CR20)+9&"C98",FALSE),INDIRECT("R10C96:R"&COUNTA(CR10:CR20)+9&"C98",FALSE))}
A11: 1 | B11: {=_xlfn.SEQUENCE(12)} -> 1 | C11: {=_xlfn.SEQUENCE(C10)} -> 1 | D11: {=_xlfn.SEQUENCE(D10)} -> 1 | E11: {=_xlfn.SEQUENCE(E10)} -> 1 | F11: {=_xlfn.SEQUENCE(F10)} -> 1 | G11: 6 | L11: 進学コース（２年） | P11: Indonesia | Q11: インドネシア | T11: 1906 | BE11: 兄 | BF11: Elder Brother | BG11: =BE11&"/"&BF11 -> 兄/Elder Brother | CH11: =CM11-CI11 -> 2025 | CI11: =IF(ISBLANK(CL11),"",_xlfn.NUMBERVALUE(LEFT(CJ11,4))) -> 0 | CJ11: =IF(ISBLANK(Form2_履歴書!$C31),"",Form2_履歴書!AD31&"年"&VLOOKUP(Form2_履歴書!AH31,Lookups!$CO$10:$CP$21,2,FALSE)&"月") | CK11: =IF(ISBLANK(Form2_履歴書!$C31),"",IFERROR(Form2_履歴書!AK31&"年"&VLOOKUP(Form2_履歴書!AO31,Lookups!$CO$10:$CP$21,2,FALSE)&"月","")) | CL11: =IF(ISBLANK(Form2_履歴書!C31),"",Form2_履歴書!C31) | CM11: =IF(ISBLANK(CL11),"",IF(CK11="",YEAR(NOW()),_xlfn.NUMBERVALUE(LEFT(CK11,4)))) -> 2025 | CN11: =IF(ISBLANK(CL11),"",IF(CK11="",12,_xlfn.NUMBERVALUE(MID(CK11,6,2)))) -> 12 | CO11: FEB | CP11: 02 | CU11: 2025 | CV11: 12
A12: 2 | B12: 2 | C12: 2 | D12: 2 | E12: 2 | F12: 2 | G12: 9 | J12: {=IF(VLOOKUP(H10,$A$11:$B$22,2,FALSE)=2,IF(MOD(謎,4)=0,$D$11:$D$39,$C$11:$C$38),IF(IFERROR(MATCH(VLOOKUP(H10,$A$11:$B$22,2,FALSE),$G$10:$G$13,0),0)<>0,$E$11:$E$40,$F$11:$F$41))} -> #N/A | P12: Sri Lanka | Q12: スリランカ | T12: 1907 | AQ12: =Form2_履歴書!AI30 -> 0 | AR12: =Form2_履歴書!AL30 -> 0 | AU12: =Form2_履歴書!AC39 -> 0 | AV12: =Form2_履歴書!AF39 -> 0 | AX12: =Form2_履歴書!AI39 -> 0 | AY12: =Form2_履歴書!AL39 -> 0 | BE12: 姉 | BF12: Elder Sister | BG12: =BE12&"/"&BF12 -> 姉/Elder Sister | CH12: =CM12-CI12 -> 2025 | CI12: =IF(ISBLANK(CL12),"",_xlfn.NUMBERVALUE(LEFT(CJ12,4))) -> 0 | CJ12: =IF(ISBLANK(Form2_履歴書!$C32),"",Form2_履歴書!AD32&"年"&VLOOKUP(Form2_履歴書!AH32,Lookups!$CO$10:$CP$21,2,FALSE)&"月") | CK12: =IF(ISBLANK(Form2_履歴書!$C32),"",IFERROR(Form2_履歴書!AK32&"年"&VLOOKUP(Form2_履歴書!AO32,Lookups!$CO$10:$CP$21,2,FALSE)&"月","")) | CL12: =IF(ISBLANK(Form2_履歴書!C32),"",Form2_履歴書!C32) | CM12: =IF(ISBLANK(CL12),"",IF(CK12="",YEAR(NOW()),_xlfn.NUMBERVALUE(LEFT(CK12,4)))) -> 2025 | CN12: =IF(ISBLANK(CL12),"",IF(CK12="",12,_xlfn.NUMBERVALUE(MID(CK12,6,2)))) -> 12 | CO12: MAR | CP12: 03 | CU12: 2025 | CV12: 12
A13: 3 | B13: 3 | C13: 3 | D13: 3 | E13: 3 | F13: 3 | G13: 11 | P13: Russia | Q13: ロシア | T13: 1908 | U13: VISA Waiver/ビザ免除 | AF13: {=IFERROR(_xlfn._xlws.FILTER(AB13:AD15,AC13:AC15=""),"")} | AJ13: {=IFERROR(_xlfn._xlws.FILTER(AF13:AH18,AH13:AH18<>""),"")} | AQ13: =Form2_履歴書!AI31 -> 0 | AR13: =Form2_履歴書!AL31 -> 0 | AU13: =Form2_履歴書!AC40 -> 0 | AV13: =Form2_履歴書!AF40 -> 0 | AX13: =Form2_履歴書!AI40 -> 0 | AY13: =Form2_履歴書!AL40 -> 0 | BE13: 弟 | BF13: Younger Brother | BG13: =BE13&"/"&BF13 -> 弟/Younger Brother | CH13: =CM13-CI13 -> 2025 | CI13: =IF(ISBLANK(CL13),"",_xlfn.NUMBERVALUE(LEFT(CJ13,4))) -> 0 | CJ13: =IF(ISBLANK(Form2_履歴書!$C33),"",Form2_履歴書!AD33&"年"&VLOOKUP(Form2_履歴書!AH33,Lookups!$CO$10:$CP$21,2,FALSE)&"月") | CK13: =IF(ISBLANK(Form2_履歴書!$C33),"",IFERROR(Form2_履歴書!AK33&"年"&VLOOKUP(Form2_履歴書!AO33,Lookups!$CO$10:$CP$21,2,FALSE)&"月","")) | CL13: =IF(ISBLANK(Form2_履歴書!C33),"",Form2_履歴書!C33) | CM13: =IF(ISBLANK(CL13),"",IF(CK13="",YEAR(NOW()),_xlfn.NUMBERVALUE(LEFT(CK13,4)))) -> 2025 | CN13: =IF(ISBLANK(CL13),"",IF(CK13="",12,_xlfn.NUMBERVALUE(MID(CK13,6,2)))) -> 12 | CO13: APR | CP13: 04 | CU13: 2025 | CV13: 12
A14: 4 | B14: 4 | C14: 4 | D14: 4 | E14: 4 | F14: 4 | P14: Thailand | Q14: タイ | T14: 1909 | U14: Temporary Visitor/短期滞在 | AE14: Japanese Citizen/日本国籍 | AQ14: =Form2_履歴書!AI32 -> 0 | AR14: =Form2_履歴書!AL32 -> 0 | BE14: 妹 | BF14: Younger Sister | BG14: =BE14&"/"&BF14 -> 妹/Younger Sister | CH14: =CM14-CI14 -> 2025 | CI14: =IF(ISBLANK(CL14),"",_xlfn.NUMBERVALUE(LEFT(CJ14,4))) -> 0 | CJ14: =IF(ISBLANK(Form2_履歴書!$C34),"",Form2_履歴書!AD34&"年"&VLOOKUP(Form2_履歴書!AH34,Lookups!$CO$10:$CP$21,2,FALSE)&"月") | CK14: =IF(ISBLANK(Form2_履歴書!$C34),"",IFERROR(Form2_履歴書!AK34&"年"&VLOOKUP(Form2_履歴書!AO34,Lookups!$CO$10:$CP$21,2,FALSE)&"月","")) | CL14: =IF(ISBLANK(Form2_履歴書!C34),"",Form2_履歴書!C34) | CM14: =IF(ISBLANK(CL14),"",IF(CK14="",YEAR(NOW()),_xlfn.NUMBERVALUE(LEFT(CK14,4)))) -> 2025 | CN14: =IF(ISBLANK(CL14),"",IF(CK14="",12,_xlfn.NUMBERVALUE(MID(CK14,6,2)))) -> 12 | CO14: MAY | CP14: 05 | CU14: 2025 | CV14: 12
A15: 5 | B15: 5 | C15: 5 | D15: 5 | E15: 5 | F15: 5 | G15: =IFERROR(MATCH(41,G10:G13,0),0) -> 0 | I15: Instructor | K15: Instructor | P15: South Korea | Q15: 大韓民国 | T15: 1910 | U15: Instructor/教育 | AE15: Instructor/教育 | AQ15: =Form2_履歴書!AI33 -> 0 | AR15: =Form2_履歴書!AL33 -> 0 | BE15: 従弟 | BF15: Younger Counsin Brother | BG15: =BE15&"/"&BF15 -> 従弟/Younger Counsin Brother | CH15: =CM15-CI15 -> 2025 | CI15: =IF(ISBLANK(CL15),"",_xlfn.NUMBERVALUE(LEFT(CJ15,4))) -> 0 | CJ15: =IF(ISBLANK(Form2_履歴書!$C35),"",Form2_履歴書!AD35&"年"&VLOOKUP(Form2_履歴書!AH35,Lookups!$CO$10:$CP$21,2,FALSE)&"月") | CK15: =IF(ISBLANK(Form2_履歴書!$C35),"",IFERROR(Form2_履歴書!AK35&"年"&VLOOKUP(Form2_履歴書!AO35,Lookups!$CO$10:$CP$21,2,FALSE)&"月","")) | CL15: =IF(ISBLANK(Form2_履歴書!C35),"",Form2_履歴書!C35) | CM15: =IF(ISBLANK(CL15),"",IF(CK15="",YEAR(NOW()),_xlfn.NUMBERVALUE(LEFT(CK15,4)))) -> 2025 | CN15: =IF(ISBLANK(CL15),"",IF(CK15="",12,_xlfn.NUMBERVALUE(MID(CK15,6,2)))) -> 12 | CO15: JUN | CP15: 06 | CU15: 2025 | CV15: 12
A16: 6 | B16: 6 | C16: 6 | D16: 6 | E16: 6 | F16: 6 | G16: =IF(1>G15,"G","L") -> G | I16: Engineer | K16: Engineer | P16: Bangladesh | Q16: バングラデシュ | T16: 1911 | U16: Engineer/技術 | AC16: =COUNTA(AC5:AC15) -> 11 | AD16: =COUNTA(AD5:AD15) -> 11 | AE16: Engineer/技術 | AQ16: =Form2_履歴書!AI34 -> 0 | AR16: =Form2_履歴書!AL34 -> 0 | BE16: 従妹 | BF16: Younger Cousin Sister | BG16: =BE16&"/"&BF16 -> 従妹/Younger Cousin Sister | CH16: =SUM(CH10:CH15) -> 12150 | CI16: =IF(ISBLANK(CL16),"",_xlfn.NUMBERVALUE(LEFT(CJ16,4))) -> 0 | CJ16: =IF(ISBLANK(Form2_履歴書!$C39),"",Form2_履歴書!AG39&"年"&VLOOKUP(Form2_履歴書!AK39,Lookups!$CO$10:$CP$21,2,FALSE)&"月") | CK16: =IF(ISBLANK(Form2_履歴書!$C39),"",IFERROR(Form2_履歴書!AN39&"年"&VLOOKUP(Form2_履歴書!AR39,Lookups!$CO$10:$CP$21,2,FALSE)&"月","")) | CL16: =IF(ISBLANK(Form2_履歴書!C39),"",Form2_履歴書!C39) | CM16: =IF(ISBLANK(CL16),"",IF(CK16="",YEAR(NOW()),_xlfn.NUMBERVALUE(LEFT(CK16,4)))) -> 2025 | CN16: =IF(ISBLANK(CL16),"",IF(CK16="",12,_xlfn.NUMBERVALUE(MID(CK16,6,2)))) -> 12 | CO16: JUL | CP16: 07 | CU16: 2025 | CV16: 12
A17: 7 | B17: 7 | C17: 7 | D17: 7 | E17: 7 | F17: 7 | I17: Specialist in Humanities/ International Services/ | K17: Specialist in Humanities/ International Services | P17: Taiwan | Q17: 台湾 | T17: 1912 | U17: Specialist in Humanities/ International Services/人文知識・国際業務 | AE17: Specialist in Humanities/ International Services/人文知識・国際業務 | AQ17: =Form2_履歴書!AI35 -> 0 | AR17: =Form2_履歴書!AL35 -> 0 | BE17: 従兄 | BF17: Elder Cousin Brother | BG17: =BE17&"/"&BF17 -> 従兄/Elder Cousin Brother | CI17: =IF(ISBLANK(CL17),"",_xlfn.NUMBERVALUE(LEFT(CJ17,4))) -> 0 | CJ17: =IF(ISBLANK(Form2_履歴書!$C40),"",Form2_履歴書!AG40&"年"&VLOOKUP(Form2_履歴書!AK40,Lookups!$CO$10:$CP$21,2,FALSE)&"月") | CK17: =IF(ISBLANK(Form2_履歴書!$C40),"",IFERROR(Form2_履歴書!AN40&"年"&VLOOKUP(Form2_履歴書!AR40,Lookups!$CO$10:$CP$21,2,FALSE)&"月","")) | CL17: =IF(ISBLANK(Form2_履歴書!C40),"",Form2_履歴書!C40) | CM17: =IF(ISBLANK(CL17),"",IF(CK17="",YEAR(NOW()),_xlfn.NUMBERVALUE(LEFT(CK17,4)))) -> 2025 | CN17: =IF(ISBLANK(CL17),"",IF(CK17="",12,_xlfn.NUMBERVALUE(MID(CK17,6,2)))) -> 12 | CO17: AUG | CP17: 08 | CU17: 2025 | CV17: 12
A18: 8 | B18: 8 | C18: 8 | D18: 8 | E18: 8 | F18: 8 | I18: Skilled Labor | K18: Skilled Labor | P18: United States of America | Q18: 米国 | T18: 1913 | U18: Skilled Labor/技能 | AE18: Skilled Labor/技能 | BE18: 従姉 | BF18: Elder Cousin Sister | BG18: =BE18&"/"&BF18 -> 従姉/Elder Cousin Sister | CI18: =IF(ISBLANK(CL18),"",_xlfn.NUMBERVALUE(LEFT(CJ18,4))) -> 0 | CJ18: =IF(ISBLANK(Form2_履歴書!$C44),"",Form2_履歴書!AG44&"年"&VLOOKUP(Form2_履歴書!AK44,Lookups!$CO$10:$CP$21,2,FALSE)&"月") | CK18: =IF(ISBLANK(Form2_履歴書!$C44),"",IFERROR(Form2_履歴書!AN44&"年"&VLOOKUP(Form2_履歴書!AR44,Lookups!$CO$10:$CP$21,2,FALSE)&"月","")) | CL18: =IF(ISBLANK(Form2_履歴書!C44),"",Form2_履歴書!C44) | CM18: =IF(ISBLANK(CL18),"",IF(CK18="",YEAR(NOW()),_xlfn.NUMBERVALUE(LEFT(CK18,4)))) -> 2025 | CN18: =IF(ISBLANK(CL18),"",IF(CK18="",12,_xlfn.NUMBERVALUE(MID(CK18,6,2)))) -> 12 | CO18: SEP | CP18: 09 | CU18: 2025 | CV18: 12
A19: 9 | B19: 9 | C19: 9 | D19: 9 | E19: 9 | F19: 9 | I19: Student | K19: Student | P19: Australia | Q19: オーストラリア | T19: 1914 | U19: Student/留学 | AE19: Student/留学 | BE19: 姪 | BF19: Niece | BG19: =BE19&"/"&BF19 -> 姪/Niece | CI19: =IF(ISBLANK(CL19),"",_xlfn.NUMBERVALUE(LEFT(CJ19,4))) -> 0 | CJ19: =IF(ISBLANK(Form2_履歴書!$C45),"",Form2_履歴書!AG45&"年"&VLOOKUP(Form2_履歴書!AK45,Lookups!$CO$10:$CP$21,2,FALSE)&"月") | CK19: =IF(ISBLANK(Form2_履歴書!$C45),"",IFERROR(Form2_履歴書!AN45&"年"&VLOOKUP(Form2_履歴書!AR45,Lookups!$CO$10:$CP$21,2,FALSE)&"月","")) | CL19: =IF(ISBLANK(Form2_履歴書!C45),"",Form2_履歴書!C45) | CM19: =IF(ISBLANK(CL19),"",IF(CK19="",YEAR(NOW()),_xlfn.NUMBERVALUE(LEFT(CK19,4)))) -> 2025 | CN19: =IF(ISBLANK(CL19),"",IF(CK19="",12,_xlfn.NUMBERVALUE(MID(CK19,6,2)))) -> 12 | CO19: OCT | CP19: 10 | CU19: 2025 | CV19: 12
A20: 10 | B20: 10 | C20: 10 | D20: 10 | E20: 10 | F20: 10 | I20: Dependent | K20: Dependent | P20: Pakistan | Q20: パキスタン | T20: 1915 | U20: Dependent/家族滞在 | AE20: Dependent/家族滞在 | BE20: 甥 | BF20: Nephew | BG20: =BE20&"/"&BF20 -> 甥/Nephew | CI20: =IF(ISBLANK(CL20),"",_xlfn.NUMBERVALUE(LEFT(CJ20,4))) -> 0 | CJ20: =IF(ISBLANK(Form2_履歴書!$C46),"",Form2_履歴書!AG46&"年"&VLOOKUP(Form2_履歴書!AK46,Lookups!$CO$10:$CP$21,2,FALSE)&"月") | CK20: =IF(ISBLANK(Form2_履歴書!$C46),"",IFERROR(Form2_履歴書!AN46&"年"&VLOOKUP(Form2_履歴書!AR46,Lookups!$CO$10:$CP$21,2,FALSE)&"月","")) | CL20: =IF(ISBLANK(Form2_履歴書!C46),"",Form2_履歴書!C46) | CM20: =IF(ISBLANK(CL20),"",IF(CK20="",YEAR(NOW()),_xlfn.NUMBERVALUE(LEFT(CK20,4)))) -> 2025 | CN20: =IF(ISBLANK(CL20),"",IF(CK20="",12,_xlfn.NUMBERVALUE(MID(CK20,6,2)))) -> 12 | CO20: NOV | CP20: 11 | CU20: 2025 | CV20: 12
A21: 11 | B21: 11 | C21: 11 | D21: 11 | E21: 11 | F21: 11 | I21: Designated Activities | K21: Designated Activities | P21: Turkey | Q21: トルコ | T21: 1916 | U21: Designated Activities/特定活動 | AE21: Designated Activities/特定活動 | BE21: 夫 | BF21: Husband | BG21: =BE21&"/"&BF21 -> 夫/Husband | CO21: DEC | CP21: 12
A22: 12 | B22: 12 | C22: 12 | D22: 12 | E22: 12 | F22: 12 | I22: Permanent Resident | K22: Permanent Resident | P22: Uzbekistan | Q22: ウズベキスタン | T22: 1917 | U22: Permanent Resident/永住者 | AE22: Permanent Resident/永住者 | BE22: 妻 | BF22: Wife | BG22: =BE22&"/"&BF22 -> 妻/Wife
C23: 13 | D23: 13 | E23: 13 | F23: 13 | I23: Spouse or Child of Japanese National | K23: Spouse or Child of Japanese National | P23: Malaysia | Q23: マレーシア | T23: 1918 | U23: Spouse or Child of Japanese National/日本人の配偶者等 | AE23: Spouse or Child of Japanese National/日本人の配偶者等 | BE23: 義理の兄 | BF23: Brother-in-Law (Elder) | BG23: =BE23&"/"&BF23 -> 義理の兄/Brother-in-Law (Elder)
C24: 14 | D24: 14 | E24: 14 | F24: 14 | I24: Spouse or Child of Permanent Residence | K24: Spouse or Child of Permanent Residence | P24: Canada | Q24: カナダ | T24: 1919 | U24: Spouse or Child of Permanent Residence/永住者の配偶者等 | AE24: Spouse or Child of Permanent Residence/永住者の配偶者等 | BE24: 義理の弟 | BF24: Brother-in-Law (Younger) | BG24: =BE24&"/"&BF24 -> 義理の弟/Brother-in-Law (Younger)
C25: 15 | D25: 15 | E25: 15 | F25: 15 | I25: Long-Term Resident | K25: Long-Term Resident | P25: Algeria | Q25: アルジェリア | T25: 1920 | U25: Long-Term Resident/定住者 | AE25: Long-Term Resident/定住者 | BE25: 義理の姉 | BF25: Sister-in-Law (Elder) | BG25: =BE25&"/"&BF25 -> 義理の姉/Sister-in-Law (Elder)
C26: 16 | D26: 16 | E26: 16 | F26: 16 | I26: Diplomat | K26: Diplomat | P26: Hong Kong | Q26: 香港 | T26: 1921 | U26: Diplomat/外交 | AE26: Diplomat/外交 | BE26: 義理の妹 | BF26: Sister-in-Law (Younger) | BG26: =BE26&"/"&BF26 -> 義理の妹/Sister-in-Law (Younger)
C27: 17 | D27: 17 | E27: 17 | F27: 17 | I27: Official | K27: Official | P27: Singapore | Q27: シンガポール | T27: 1922 | U27: Official/公用 | AE27: Official/公用 | BE27: 義理の父 | BF27: Father-in-Law | BG27: =BE27&"/"&BF27 -> 義理の父/Father-in-Law
C28: 18 | D28: 18 | E28: 18 | F28: 18 | I28: Professor | K28: Professor | P28: Japan | Q28: 日本 | T28: 1923 | U28: Professor/教授 | AE28: Professor/教授 | BE28: 義理の母 | BF28: Mother-in-Law | BG28: =BE28&"/"&BF28 -> 義理の母/Mother-in-Law
C29: 19 | D29: 19 | E29: 19 | F29: 19 | I29: Artist | K29: Artist | P29: Austria | Q29: オーストリア | T29: 1924 | U29: Artist/芸術 | AE29: Artist/芸術 | BE29: 息子 | BF29: Son | BG29: =BE29&"/"&BF29 -> 息子/Son
C30: 20 | D30: 20 | E30: 20 | F30: 20 | I30: Religious Activities | K30: Religious Activities | P30: Belarus | Q30: ベラルーシ | T30: 1925 | U30: Religious Activities/宗教活動 | AE30: Religious Activities/宗教活動 | BE30: 娘 | BF30: Daughter | BG30: =BE30&"/"&BF30 -> 娘/Daughter
C31: 21 | D31: 21 | E31: 21 | F31: 21 | I31: Journalist | K31: Journalist | P31: Brazil | Q31: ブラジル | T31: 1926 | U31: Journalist/報道 | AE31: Journalist/報道 | BE31: 養父 | BF31: Foster Father | BG31: =BE31&"/"&BF31 -> 養父/Foster Father
C32: 22 | D32: 22 | E32: 22 | F32: 22 | I32: Investor/ Business Manager | K32: Investor/ Business Manager | P32: Chile | Q32: チリ | T32: 1927 | U32: Investor/Business Manager/経営・管理 | AE32: Investor/Business Manager/経営・管理 | BE32: 養母 | BF32: Foster Mother | BG32: =BE32&"/"&BF32 -> 養母/Foster Mother
C33: 23 | D33: 23 | E33: 23 | F33: 23 | I33: Legal/ Accounting Services | K33: Legal/ Accounting Services | P33: Czechia | Q33: チェコ | T33: 1928 | U33: Legal/ Accounting Services/法律・会計業務 | AE33: Legal/ Accounting Services/法律・会計業務 | BE33: その他 | BF33: Other | BG33: =BE33&"/"&BF33 -> その他/Other
C34: 24 | D34: 24 | E34: 24 | F34: 24 | I34: Medical Services | K34: Medical Services | P34: Spain | Q34: スペイン | T34: 1929 | U34: Medical Services/医療 | AE34: Medical Services/医療 | BE34: 申請者本人 | BF34: Self | BG34: =BE34&"/"&BF34 -> 申請者本人/Self
C35: 25 | D35: 25 | E35: 25 | F35: 25 | I35: Researcher | K35: Researcher | P35: United Kingdom | Q35: 英国 | T35: 1930 | U35: Researcher/研究 | AE35: Researcher/研究
C36: 26 | D36: 26 | E36: 26 | F36: 26 | I36: Intra-company Transferee | K36: Intra-company Transferee | P36: Hungary | Q36: ハンガリー | T36: 1931 | U36: Intra-company Transferee/企業内転勤 | AE36: Intra-company Transferee/企業内転勤
C37: 27 | D37: 27 | E37: 27 | F37: 27 | I37: Entertainment | K37: Entertainment | P37: Italy | Q37: イタリア | T37: 1932 | U37: Entertainment/興行 | AE37: Entertainment/興行
C38: 28 | D38: 28 | E38: 28 | F38: 28 | I38: Technical Intern Training | K38: Technical Intern Training | P38: Mexico | Q38: メキシコ | T38: 1933 | U38: Technical Intern Training/技能実習 | AE38: Technical Intern Training/技能実習
D39: 29 | E39: 29 | F39: 29 | I39: Cultural Activities | K39: Cultural Activities | P39: Norway | Q39: ノルウェー | T39: 1934 | U39: Cultural Activities/文化活動 | AE39: Cultural Activities/文化活動
E40: 30 | F40: 30 | I40: Trainee | K40: Trainee | P40: Nepal | Q40: ネパール | T40: 1935 | U40: Trainee/研修 | AE40: Trainee/研修
F41: 31 | I41: VISA Waiver | K41: Japanese Citizen | P41: New Zealand | Q41: ニュージーランド | T41: 1936 | U41: Specified Skilled Worker/特定技能 | AE41: Specified Skilled Worker/特定技能
I42: Temporary Visitor | P42: Oman | Q42: オマーン | T42: 1937
P43: Ukraine | Q43: ウクライナ | T43: 1938
P44: Other Countries / Regions | Q44: その他の国・地域 | T44: 1939
P45: ALBA | Q45: アルバ | T45: 1940
P46: Afghanistan | Q46: アフガニスタン | T46: 1941
P47: Angola | Q47: アンゴラ | T47: 1942
P48: Anguilla | Q48: アンギラ | T48: 1943
P49: Albania | Q49: アルバニア | T49: 1944
B50: 1 | C50: 【Unitas Kofu】進学日本語2年コース（4月入学） University Preparation Japanese Course 2 years (April Entry) | P50: Andorra | Q50: アンドラ | T50: 1945
B51: 2 | C51: 【Unitas Kofu】進学日本語1年9か月コース（7月入学） University Preparation Japanese Course 1 year 9 months (July Entry) | P51: United Arab Emirates | Q51: アラブ首長国連邦 | T51: 1946
B52: 3 | C52: 【Unitas Kofu】進学日本語1年6か月コース（10月入学） University Preparation Japanese Course 1 year 6 months (October Entry) | P52: Argentina | Q52: アルゼンチン | T52: 1947
B53: 4 | C53: 【Unitas Kofu】進学日本語1年3か月コース（1月入学） University Preparation Japanese Course 1 year 3 months (January Entry) | P53: Armenia | Q53: アルメニア | T53: 1948
B54: 5 | C54: 【Unitas Kofu】日本語運用力養成課程1年コース Japanese Proficiency Course 1 year | P54: American Samoa | Q54: 米領サモア | T54: 1949
B55: 6 | C55: 【Unitas Kofu】日本語運用力養成課程2年コース Japanese Proficiency Course 2 years | P55: Antartica | Q55: 南極大陸 | T55: 1950
B56: 7 | P56: Antigua and Barbuda | Q56: アンティグア・バーブーダ | T56: 1951
B57: 8 | C57: 【Unitas Tokyo】進学2年コース（4月入学） Preparatory 2 years Course (April Entry) | P57: Azerbaijan | Q57: アゼルバイジャン | T57: 1952
B58: 9 | C58: 【Unitas Tokyo】進学1年9か月コース（7月入学） Preparatory 1 year 9 months Course (July Entry) | P58: Burundi | Q58: ブルンジ | T58: 1953
B59: 10 | C59: 【Unitas Tokyo】進学1年6か月コース（10月入学） Preparatory 1 year 6 months Course (October Entry) | P59: Belgium | Q59: ベルギー | T59: 1954
B60: 11 | C60: 【Unitas Tokyo】進学1年3か月コース（1月入学） Preparatory 1 year 3 months Course (January Entry) | P60: Benin | Q60: ベナン | T60: 1955
B61: 12 | C61: 【Unitas Tokyo】一般コース（4月･7月･10月･1月入学）General Course (April, July, October, January Entry) | P61: Burkina Faso | Q61: ブルキナファソ | T61: 1956
P62: Bulgaria | Q62: ブルガリア | T62: 1957
H63: 1 | I63: 進学日本語2年コース | P63: Bahrain | Q63: バーレーン | T63: 1958
H64: 2 | I64: 進学日本語1年9か月コース | P64: Bahamas | Q64: バハマ | T64: 1959
H65: 3 | I65: 進学日本語1年6か月コース | P65: Bosnia and Herzegovina | Q65: ボスニア・ヘルツェゴビナ | T65: 1960
H66: 4 | I66: 進学日本語1年3か月コース | P66: Belize | Q66: ベリーズ | T66: 1961
H67: 5 | I67: 日本語運用力養成課程1年コース | P67: Bermuda Islands | Q67: バミューダ諸島 | T67: 1962
H68: 6 | I68: 日本語運用力養成課程2年コース | P68: Bolivia | Q68: ボリビア | T68: 1963
H69: 7 | P69: Barbados | Q69: バルバドス | T69: 1964
H70: 8 | I70: 進学コース（２年） | P70: Brunei Darussalam | Q70: ブルネイ | T70: 1965
H71: 9 | I71: 進学コース（１年９ヶ月） | P71: Bhutan | Q71: ブータン | T71: 1966
H72: 10 | I72: 進学コース（１年６ヶ月） | P72: Botswana | Q72: ボツワナ | T72: 1967
C73: 【Unitas Kofu】 780,000 JPY (1 year payment) | H73: 11 | I73: 進学コース（１年３ヶ月） | P73: Central Africa | Q73: 中央アフリカ | T73: 1968
C74: 【Unitas Kofu】 435,000 JPY (6 months payment) | H74: 12 | I74: 一般コース（２年） | P74: Cocos Islands | Q74: ココス諸島 | T74: 1969
C75: 【Unitas Tokyo】 800,000 JPY (1 year payment) | P75: Switzerland | Q75: スイス | T75: 1970
C76: 【Unitas Tokyo】 465,000 JPY (6 months payment) | P76: Côte d’Ivoire | Q76: コートジボワール | T76: 1971
P77: Cameroon | Q77: カメルーン | T77: 1972
P78: The Democratic Republic of the Congo | Q78: コンゴ民主共和国 | T78: 1973
P79: Congo | Q79: コンゴ共和国 | T79: 1974
P80: Cook Islands | Q80: クック諸島 | T80: 1975
P81: Colombia | Q81: コロンビア | T81: 1976
P82: Union of Comoros | Q82: コモロ連合 | T82: 1977
P83: Cape Verde | Q83: カーボベルデ | T83: 1978
P84: Costa Rica | Q84: コスタリカ | T84: 1979
P85: Cuba | Q85: キューバ | T85: 1980
P86: Christmas Island | Q86: クリスマス島 | T86: 1981
P87: Cayman Islands | Q87: ケイマン諸島 | T87: 1982
P88: Cyprus | Q88: キプロス | T88: 1983
... P204: El Salvador | Q204: エルサルバドル | T204: 2099
P205: San Marino | Q205: サンマリノ
P206: Somalia | Q206: ソマリア
P207: Saint Pierre and Miquelon | Q207: サンピエール島・ミクロン島
P208: Serbia | Q208: セルビア
P209: South Sudan | Q209: 南スーダン
P210: Sao Tome and Principe | Q210: サントメ・プリンシペ
P211: Suriname | Q211: スリナム
P212: Slovakia | Q212: スロバキア
P213: Slovenia | Q213: スロベニア
P214: Sweden | Q214: スウェーデン
P215: Eswatini | Q215: エスワティニ
P216: Seychelles | Q216: セーシェル
... P243: Zimbabwe | Q243: ジンバブエ
